BEGIN:VCALENDAR
VERSION:2.0
PRODID:SchoolNow
CALSCALE:GREGORIAN
BEGIN:VEVENT
UID:35ac1f72-8e66-11f0-8021-0a58a9feac02
DTSTAMP:20251216T214513Z
SUMMARY:Erins Law
URL;VALUE=URI:https://www.dist126.org/hazelgreen/about/calendar/8605300/eri
 ns-law
DTSTART;VALUE=DATE:20260309
DTEND;VALUE=DATE:20260310
END:VEVENT
END:VCALENDAR
