BEGIN:VCALENDAR
VERSION:2.0
PRODID:SchoolNow
CALSCALE:GREGORIAN
BEGIN:VEVENT
UID:effec56c-8dcd-11f0-ba56-0a58a9feac02
DTSTAMP:20251216T214513Z
SUMMARY:5th grade Chicago Symphony Field Trip
URL;VALUE=URI:https://www.dist126.org/hazelgreen/about/calendar/8602429/5th
 -grade-chicago-symphony-field-trip
DTSTART:20251114T150000Z
DTEND:20251114T181500Z
END:VEVENT
END:VCALENDAR
