BEGIN:VCALENDAR
VERSION:2.0
PRODID:SchoolNow
CALSCALE:GREGORIAN
BEGIN:VEVENT
UID:26b3c7de-899f-11f0-b212-0a58a9feac02
DTSTAMP:20251216T214513Z
SUMMARY:EM Refresher-VLC
URL;VALUE=URI:https://www.dist126.org/hazelgreen/about/calendar/8578571/em-
 refresher-vlc
DTSTART:20250910T123500Z
DTEND:20250910T131500Z
ATTACH;FILENAME=Notes - EM Refresher-VLC;FMTTYPE=application/octet-stream:h
 ttps://docs.google.com/document/d/15zn8fDs4hhOv6RBrlrfFo3c6zPLPSMZ2rYrfZwD
 K1lk/edit
END:VEVENT
END:VCALENDAR
