BEGIN:VCALENDAR
VERSION:2.0
PRODID:SchoolNow
CALSCALE:GREGORIAN
BEGIN:VEVENT
UID:357d0e66-886d-11f0-90b1-0afff8e6d7c3
DTSTAMP:20251216T214514Z
SUMMARY:Monthly DLT Meeting
URL;VALUE=URI:https://www.dist126.org/hazelgreen/about/calendar/8572913/mon
 thly-dlt-meeting
DTSTART:20260527T123500Z
DTEND:20260527T131500Z
END:VEVENT
END:VCALENDAR
