BEGIN:VCALENDAR
VERSION:2.0
PRODID:SchoolNow
CALSCALE:GREGORIAN
BEGIN:VEVENT
UID:357d0cfe-886d-11f0-9e82-0afff8e6d7c3
DTSTAMP:20251216T214514Z
SUMMARY:Monthly DLT Meeting
URL;VALUE=URI:https://www.dist126.org/hazelgreen/about/calendar/8572912/mon
 thly-dlt-meeting
DTSTART:20260422T123500Z
DTEND:20260422T131500Z
END:VEVENT
END:VCALENDAR
