BEGIN:VCALENDAR
VERSION:2.0
PRODID:SchoolNow
CALSCALE:GREGORIAN
BEGIN:VEVENT
UID:357d08e4-886d-11f0-8410-0afff8e6d7c3
DTSTAMP:20251216T214514Z
SUMMARY:Monthly DLT Meeting
URL;VALUE=URI:https://www.dist126.org/hazelgreen/about/calendar/8572911/mon
 thly-dlt-meeting
DTSTART:20260325T123500Z
DTEND:20260325T131500Z
END:VEVENT
END:VCALENDAR
