BEGIN:VCALENDAR
VERSION:2.0
PRODID:SchoolNow
CALSCALE:GREGORIAN
BEGIN:VEVENT
UID:3566f1c6-886d-11f0-a10c-0afff8e6d7c3
DTSTAMP:20251216T214514Z
SUMMARY:Monthly DLT Meeting
URL;VALUE=URI:https://www.dist126.org/hazelgreen/about/calendar/8572909/mon
 thly-dlt-meeting
DTSTART:20260128T133500Z
DTEND:20260128T141500Z
END:VEVENT
END:VCALENDAR
