BEGIN:VCALENDAR
VERSION:2.0
PRODID:SchoolNow
CALSCALE:GREGORIAN
BEGIN:VEVENT
UID:3566f00e-886d-11f0-b813-0afff8e6d7c3
DTSTAMP:20251216T214514Z
SUMMARY:Monthly DLT Meeting
URL;VALUE=URI:https://www.dist126.org/hazelgreen/about/calendar/8572908/mon
 thly-dlt-meeting
DTSTART:20251224T133500Z
DTEND:20251224T141500Z
END:VEVENT
END:VCALENDAR
