BEGIN:VCALENDAR
VERSION:2.0
PRODID:SchoolNow
CALSCALE:GREGORIAN
BEGIN:VEVENT
UID:3566ea6e-886d-11f0-9aea-0afff8e6d7c3
DTSTAMP:20251216T214514Z
SUMMARY:Monthly DLT Meeting
URL;VALUE=URI:https://www.dist126.org/hazelgreen/about/calendar/8572905/mon
 thly-dlt-meeting
DTSTART:20250924T123500Z
DTEND:20250924T131500Z
END:VEVENT
END:VCALENDAR
