BEGIN:VCALENDAR
VERSION:2.0
PRODID:SchoolNow
CALSCALE:GREGORIAN
BEGIN:VEVENT
UID:3e2f848c-81db-11f0-a12d-0e48b806d459
DTSTAMP:20251216T214513Z
SUMMARY:Grade 4- Field Trip to Lake Katherine
URL;VALUE=URI:https://www.dist126.org/hazelgreen/about/calendar/8541536/gra
 de-4-field-trip-to-lake-katherine
DTSTART:20251014T134500Z
DTEND:20251014T190000Z
END:VEVENT
END:VCALENDAR
