BEGIN:VCALENDAR
VERSION:2.0
PRODID:SchoolNow
CALSCALE:GREGORIAN
BEGIN:VEVENT
UID:5d20ae86-7f77-11f0-93cc-0a58a9feac02
DTSTAMP:20251216T214513Z
SUMMARY:Bus Evacuation Drill
URL;VALUE=URI:https://www.dist126.org/hazelgreen/about/calendar/8532341/bus
 -evacuation-drill
DTSTART;VALUE=DATE:20250903
DTEND;VALUE=DATE:20250904
END:VEVENT
END:VCALENDAR
