BEGIN:VCALENDAR
VERSION:2.0
PRODID:SchoolNow
CALSCALE:GREGORIAN
BEGIN:VEVENT
UID:14f0db8c-721f-11f0-8979-0a58a9feac02
DTSTAMP:20251216T214513Z
SUMMARY:Choir/District Band Concert PJH
URL;VALUE=URI:https://www.dist126.org/hazelgreen/about/calendar/8472876/cho
 ir-district-band-concert-pjh
DTSTART:20251219T000000Z
DTEND:20251219T010000Z
END:VEVENT
END:VCALENDAR
