BEGIN:VCALENDAR
VERSION:2.0
PRODID:SchoolNow
CALSCALE:GREGORIAN
BEGIN:VEVENT
UID:14f0daa6-721f-11f0-9c4a-0a58a9feac02
DTSTAMP:20251216T214513Z
SUMMARY:12 Days of Caring Ends
URL;VALUE=URI:https://www.dist126.org/hazelgreen/about/calendar/8472875/12-
 days-of-caring-ends
DTSTART;VALUE=DATE:20251216
DTEND;VALUE=DATE:20251217
END:VEVENT
END:VCALENDAR
