BEGIN:VCALENDAR
VERSION:2.0
PRODID:SchoolNow
CALSCALE:GREGORIAN
BEGIN:VEVENT
UID:14f0d9ca-721f-11f0-b615-0a58a9feac02
DTSTAMP:20251216T214513Z
SUMMARY:Drama Club Performance
URL;VALUE=URI:https://www.dist126.org/hazelgreen/about/calendar/8472874/dra
 ma-club-performance
DTSTART;VALUE=DATE:20251211
DTEND;VALUE=DATE:20251212
END:VEVENT
END:VCALENDAR
