BEGIN:VCALENDAR
VERSION:2.0
PRODID:SchoolNow
CALSCALE:GREGORIAN
BEGIN:VEVENT
UID:14f0d8da-721f-11f0-942b-0a58a9feac02
DTSTAMP:20251216T214513Z
SUMMARY:Jingle Bell Market Ends
URL;VALUE=URI:https://www.dist126.org/hazelgreen/about/calendar/8472873/jin
 gle-bell-market-ends
DTSTART;VALUE=DATE:20251209
DTEND;VALUE=DATE:20251210
END:VEVENT
END:VCALENDAR
