BEGIN:VCALENDAR
VERSION:2.0
PRODID:SchoolNow
CALSCALE:GREGORIAN
BEGIN:VEVENT
UID:14f0d7fe-721f-11f0-8717-0a58a9feac02
DTSTAMP:20251216T214513Z
SUMMARY:Winter Music Assembly  1st-2nd Grade & Choir
URL;VALUE=URI:https://www.dist126.org/hazelgreen/about/calendar/8472872/win
 ter-music-assembly-1st-2nd-grade-choir
DTSTART:20251209T190000Z
DTEND:20251209T200000Z
END:VEVENT
END:VCALENDAR
