BEGIN:VCALENDAR
VERSION:2.0
PRODID:SchoolNow
CALSCALE:GREGORIAN
BEGIN:VEVENT
UID:14f0d718-721f-11f0-919f-0a58a9feac02
DTSTAMP:20251216T214513Z
SUMMARY:Jingle Bell Market
URL;VALUE=URI:https://www.dist126.org/hazelgreen/about/calendar/8472871/jin
 gle-bell-market
DTSTART;VALUE=DATE:20251203
DTEND;VALUE=DATE:20251210
END:VEVENT
END:VCALENDAR
