BEGIN:VCALENDAR
VERSION:2.0
PRODID:SchoolNow
CALSCALE:GREGORIAN
BEGIN:VEVENT
UID:14f0d628-721f-11f0-82c6-0a58a9feac02
DTSTAMP:20251216T214513Z
SUMMARY:12 Days of Caring Begins
URL;VALUE=URI:https://www.dist126.org/hazelgreen/about/calendar/8472870/12-
 days-of-caring-begins
DTSTART;VALUE=DATE:20251201
DTEND;VALUE=DATE:20251202
END:VEVENT
END:VCALENDAR
