BEGIN:VCALENDAR
VERSION:2.0
PRODID:SchoolNow
CALSCALE:GREGORIAN
BEGIN:VEVENT
UID:14f0d54c-721f-11f0-82a0-0a58a9feac02
DTSTAMP:20251216T214513Z
SUMMARY:No School\; Thanksgiving Break
URL;VALUE=URI:https://www.dist126.org/hazelgreen/about/calendar/8472869/no-
 school-thanksgiving-break
DTSTART;VALUE=DATE:20251126
DTEND;VALUE=DATE:20251129
END:VEVENT
END:VCALENDAR
