BEGIN:VCALENDAR
VERSION:2.0
PRODID:SchoolNow
CALSCALE:GREGORIAN
BEGIN:VEVENT
UID:14f0d466-721f-11f0-8731-0a58a9feac02
DTSTAMP:20251216T214513Z
SUMMARY:Report Card Distribution
URL;VALUE=URI:https://www.dist126.org/hazelgreen/about/calendar/8472868/rep
 ort-card-distribution
DTSTART;VALUE=DATE:20251124
DTEND;VALUE=DATE:20251126
END:VEVENT
END:VCALENDAR
