BEGIN:VCALENDAR
VERSION:2.0
PRODID:SchoolNow
CALSCALE:GREGORIAN
BEGIN:VEVENT
UID:14f0d380-721f-11f0-9757-0a58a9feac02
DTSTAMP:20251216T214513Z
SUMMARY:PD Opportunity
URL;VALUE=URI:https://www.dist126.org/hazelgreen/about/calendar/8472867/pd-
 opportunity
DTSTART;VALUE=DATE:20251124
DTEND;VALUE=DATE:20251125
END:VEVENT
END:VCALENDAR
