BEGIN:VCALENDAR
VERSION:2.0
PRODID:SchoolNow
CALSCALE:GREGORIAN
BEGIN:VEVENT
UID:14f0d29a-721f-11f0-80db-0a58a9feac02
DTSTAMP:20251216T214513Z
SUMMARY:Craft Fair 9am-3pm
URL;VALUE=URI:https://www.dist126.org/hazelgreen/about/calendar/8472866/cra
 ft-fair-9am-3pm
DTSTART;VALUE=DATE:20251122
DTEND;VALUE=DATE:20251123
END:VEVENT
END:VCALENDAR
