BEGIN:VCALENDAR
VERSION:2.0
PRODID:SchoolNow
CALSCALE:GREGORIAN
BEGIN:VEVENT
UID:14f0d15a-721f-11f0-b959-0a58a9feac02
DTSTAMP:20251216T214513Z
SUMMARY:PFO Meeting
URL;VALUE=URI:https://www.dist126.org/hazelgreen/about/calendar/8472865/pfo
 -meeting
DTSTART:20251119T010000Z
DTEND:20251119T020000Z
END:VEVENT
END:VCALENDAR
