BEGIN:VCALENDAR
VERSION:2.0
PRODID:SchoolNow
CALSCALE:GREGORIAN
BEGIN:VEVENT
UID:14f0d074-721f-11f0-9ef7-0a58a9feac02
DTSTAMP:20251216T214513Z
SUMMARY:Picture Retakes
URL;VALUE=URI:https://www.dist126.org/hazelgreen/about/calendar/8472864/pic
 ture-retakes
DTSTART;VALUE=DATE:20251112
DTEND;VALUE=DATE:20251113
END:VEVENT
END:VCALENDAR
