BEGIN:VCALENDAR
VERSION:2.0
PRODID:SchoolNow
CALSCALE:GREGORIAN
BEGIN:VEVENT
UID:14f0cf8e-721f-11f0-802c-0a58a9feac02
DTSTAMP:20251216T214513Z
SUMMARY:No School\; Veteran's Day
URL;VALUE=URI:https://www.dist126.org/hazelgreen/about/calendar/8472863/no-
 school-veterans-day
DTSTART;VALUE=DATE:20251111
DTEND;VALUE=DATE:20251112
END:VEVENT
END:VCALENDAR
