BEGIN:VCALENDAR
VERSION:2.0
PRODID:SchoolNow
CALSCALE:GREGORIAN
BEGIN:VEVENT
UID:14f0ce9e-721f-11f0-9e29-0a58a9feac02
DTSTAMP:20251216T214513Z
SUMMARY:Service Club Food Drive Ends
URL;VALUE=URI:https://www.dist126.org/hazelgreen/about/calendar/8472862/ser
 vice-club-food-drive-ends
DTSTART;VALUE=DATE:20251107
DTEND;VALUE=DATE:20251108
END:VEVENT
END:VCALENDAR
