BEGIN:VCALENDAR
VERSION:2.0
PRODID:SchoolNow
CALSCALE:GREGORIAN
BEGIN:VEVENT
UID:14f0cdae-721f-11f0-8499-0a58a9feac02
DTSTAMP:20251216T214513Z
SUMMARY:End of First Trimester
URL;VALUE=URI:https://www.dist126.org/hazelgreen/about/calendar/8472861/end
 -of-first-trimester
DTSTART;VALUE=DATE:20251107
DTEND;VALUE=DATE:20251108
END:VEVENT
END:VCALENDAR
