BEGIN:VCALENDAR
VERSION:2.0
PRODID:SchoolNow
CALSCALE:GREGORIAN
BEGIN:VEVENT
UID:14f0ccb4-721f-11f0-9515-0a58a9feac02
DTSTAMP:20251216T214513Z
SUMMARY:Fall Back
URL;VALUE=URI:https://www.dist126.org/hazelgreen/about/calendar/8472860/fal
 l-back
DTSTART;VALUE=DATE:20251102
DTEND;VALUE=DATE:20251103
END:VEVENT
END:VCALENDAR
