BEGIN:VCALENDAR
VERSION:2.0
PRODID:SchoolNow
CALSCALE:GREGORIAN
BEGIN:VEVENT
UID:14f0cb92-721f-11f0-9078-0a58a9feac02
DTSTAMP:20251216T214513Z
SUMMARY:Service Club Food Drive Begins
URL;VALUE=URI:https://www.dist126.org/hazelgreen/about/calendar/8472859/ser
 vice-club-food-drive-begins
DTSTART;VALUE=DATE:20251027
DTEND;VALUE=DATE:20251028
END:VEVENT
END:VCALENDAR
