BEGIN:VCALENDAR
VERSION:2.0
PRODID:SchoolNow
CALSCALE:GREGORIAN
BEGIN:VEVENT
UID:14f0ca34-721f-11f0-bf34-0a58a9feac02
DTSTAMP:20251216T214513Z
SUMMARY:Red Ribbon Week
URL;VALUE=URI:https://www.dist126.org/hazelgreen/about/calendar/8472858/red
 -ribbon-week
DTSTART;VALUE=DATE:20251027
DTEND;VALUE=DATE:20251028
END:VEVENT
END:VCALENDAR
