BEGIN:VCALENDAR
VERSION:2.0
PRODID:SchoolNow
CALSCALE:GREGORIAN
BEGIN:VEVENT
UID:14f0c64c-721f-11f0-8017-0a58a9feac02
DTSTAMP:20251216T214513Z
SUMMARY:5th-6th Grade Band Demo Concert @ PJH
URL;VALUE=URI:https://www.dist126.org/hazelgreen/about/calendar/8472857/5th
 -6th-grade-band-demo-concert-pjh
DTSTART:20251023T230000Z
DTEND:20251024T000000Z
END:VEVENT
END:VCALENDAR
