BEGIN:VCALENDAR
VERSION:2.0
PRODID:SchoolNow
CALSCALE:GREGORIAN
BEGIN:VEVENT
UID:14ba3cda-721f-11f0-931a-0a58a9feac02
DTSTAMP:20251216T214513Z
SUMMARY:School Improvement Day Dismissal PM Schedule
URL;VALUE=URI:https://www.dist126.org/hazelgreen/about/calendar/8472856/sch
 ool-improvement-day-dismissal-pm-schedule
DTSTART;VALUE=DATE:20251022
DTEND;VALUE=DATE:20251023
END:VEVENT
END:VCALENDAR
