BEGIN:VCALENDAR
VERSION:2.0
PRODID:SchoolNow
CALSCALE:GREGORIAN
BEGIN:VEVENT
UID:14ba3bf4-721f-11f0-ad24-0a58a9feac02
DTSTAMP:20251216T214513Z
SUMMARY:PFO Meeting
URL;VALUE=URI:https://www.dist126.org/hazelgreen/about/calendar/8472855/pfo
 -meeting
DTSTART:20251022T000000Z
DTEND:20251022T010000Z
END:VEVENT
END:VCALENDAR
