BEGIN:VCALENDAR
VERSION:2.0
PRODID:SchoolNow
CALSCALE:GREGORIAN
BEGIN:VEVENT
UID:14ba3b18-721f-11f0-b6d4-0a58a9feac02
DTSTAMP:20251216T214513Z
SUMMARY:No School\; Columbus Day
URL;VALUE=URI:https://www.dist126.org/hazelgreen/about/calendar/8472854/no-
 school-columbus-day
DTSTART;VALUE=DATE:20251013
DTEND;VALUE=DATE:20251014
END:VEVENT
END:VCALENDAR
