BEGIN:VCALENDAR
VERSION:2.0
PRODID:SchoolNow
CALSCALE:GREGORIAN
BEGIN:VEVENT
UID:14ba3a32-721f-11f0-b685-0a58a9feac02
DTSTAMP:20251216T214513Z
SUMMARY:PFO Fall Fest
URL;VALUE=URI:https://www.dist126.org/hazelgreen/about/calendar/8472853/pfo
 -fall-fest
DTSTART;VALUE=DATE:20251003
DTEND;VALUE=DATE:20251004
END:VEVENT
END:VCALENDAR
