BEGIN:VCALENDAR
VERSION:2.0
PRODID:SchoolNow
CALSCALE:GREGORIAN
BEGIN:VEVENT
UID:14ba394c-721f-11f0-896e-0a58a9feac02
DTSTAMP:20251216T214513Z
SUMMARY:Tornado Drill
URL;VALUE=URI:https://www.dist126.org/hazelgreen/about/calendar/8472852/tor
 nado-drill
DTSTART:20250923T140000Z
DTEND:20250923T143000Z
END:VEVENT
END:VCALENDAR
