BEGIN:VCALENDAR
VERSION:2.0
PRODID:SchoolNow
CALSCALE:GREGORIAN
BEGIN:VEVENT
UID:14ba385c-721f-11f0-bc21-0a58a9feac02
DTSTAMP:20251216T214513Z
SUMMARY:PFO Meeting
URL;VALUE=URI:https://www.dist126.org/hazelgreen/about/calendar/8472851/pfo
 -meeting
DTSTART:20250917T000000Z
DTEND:20250917T010000Z
END:VEVENT
END:VCALENDAR
