BEGIN:VCALENDAR
VERSION:2.0
PRODID:SchoolNow
CALSCALE:GREGORIAN
BEGIN:VEVENT
UID:14ba3776-721f-11f0-8d7e-0a58a9feac02
DTSTAMP:20251216T214513Z
SUMMARY:Grandparents Day 7:45-8:35
URL;VALUE=URI:https://www.dist126.org/hazelgreen/about/calendar/8472850/gra
 ndparents-day-7-45-8-35
DTSTART:20250912T150000Z
DTEND:20250912T160000Z
END:VEVENT
END:VCALENDAR
