BEGIN:VCALENDAR
VERSION:2.0
PRODID:SchoolNow
CALSCALE:GREGORIAN
BEGIN:VEVENT
UID:14ba3686-721f-11f0-8337-0a58a9feac02
DTSTAMP:20251216T214513Z
SUMMARY:Fall Pictures
URL;VALUE=URI:https://www.dist126.org/hazelgreen/about/calendar/8472849/fal
 l-pictures
DTSTART;VALUE=DATE:20250911
DTEND;VALUE=DATE:20250912
END:VEVENT
END:VCALENDAR
