BEGIN:VCALENDAR
VERSION:2.0
PRODID:SchoolNow
CALSCALE:GREGORIAN
BEGIN:VEVENT
UID:14ba3596-721f-11f0-975e-0a58a9feac02
DTSTAMP:20251216T214513Z
SUMMARY:No School\; Labor Day
URL;VALUE=URI:https://www.dist126.org/hazelgreen/about/calendar/8472848/no-
 school-labor-day
DTSTART;VALUE=DATE:20250901
DTEND;VALUE=DATE:20250902
END:VEVENT
END:VCALENDAR
