BEGIN:VCALENDAR
VERSION:2.0
PRODID:SchoolNow
CALSCALE:GREGORIAN
BEGIN:VEVENT
UID:14ba349c-721f-11f0-88f8-0a58a9feac02
DTSTAMP:20251216T214513Z
SUMMARY:Curriculum Night
URL;VALUE=URI:https://www.dist126.org/hazelgreen/about/calendar/8472847/cur
 riculum-night
DTSTART:20250828T220000Z
DTEND:20250828T233000Z
END:VEVENT
END:VCALENDAR
