BEGIN:VCALENDAR
VERSION:2.0
PRODID:SchoolNow
CALSCALE:GREGORIAN
BEGIN:VEVENT
UID:14ba338e-721f-11f0-aef8-0a58a9feac02
DTSTAMP:20251216T214513Z
SUMMARY:First Day of School & KG Parent Breakfast 8:15-8:45am
URL;VALUE=URI:https://www.dist126.org/hazelgreen/about/calendar/8472846/fir
 st-day-of-school-kg-parent-breakfast-8-15-8-45am
DTSTART;VALUE=DATE:20250820
DTEND;VALUE=DATE:20250821
END:VEVENT
END:VCALENDAR
