BEGIN:VCALENDAR
VERSION:2.0
PRODID:SchoolNow
CALSCALE:GREGORIAN
BEGIN:VEVENT
UID:14ba3262-721f-11f0-bfc9-0a58a9feac02
DTSTAMP:20251216T214513Z
SUMMARY:Grandparents Day
URL;VALUE=URI:https://www.dist126.org/hazelgreen/about/calendar/8472845/gra
 ndparents-day
DTSTART:20250912T124500Z
DTEND:20250912T133500Z
END:VEVENT
END:VCALENDAR
