BEGIN:VCALENDAR
VERSION:2.0
PRODID:SchoolNow
CALSCALE:GREGORIAN
BEGIN:VEVENT
UID:14ba30c8-721f-11f0-86c6-0a58a9feac02
DTSTAMP:20251216T214513Z
SUMMARY:Book Fair Begins
URL;VALUE=URI:https://www.dist126.org/hazelgreen/about/calendar/8472844/boo
 k-fair-begins
DTSTART;VALUE=DATE:20250825
DTEND;VALUE=DATE:20250826
END:VEVENT
END:VCALENDAR
