BEGIN:VCALENDAR
VERSION:2.0
PRODID:SchoolNow
CALSCALE:GREGORIAN
BEGIN:VEVENT
UID:14ba0bb6-721f-11f0-b394-0a58a9feac02
DTSTAMP:20251216T214513Z
SUMMARY:Lockdown\, Fire and Evacuation drills
URL;VALUE=URI:https://www.dist126.org/hazelgreen/about/calendar/8472843/loc
 kdown-fire-and-evacuation-drills
DTSTART:20250826T134500Z
DTEND:20250826T151500Z
END:VEVENT
END:VCALENDAR
