BEGIN:VCALENDAR
VERSION:2.0
PRODID:SchoolNow
CALSCALE:GREGORIAN
BEGIN:VEVENT
UID:6ec4628a-2613-11f0-8af5-0a58a9feac02
DTSTAMP:20251216T214513Z
SUMMARY:Service Club Info Meeting
LOCATION:Room 24- Czarnecki
URL;VALUE=URI:https://www.dist126.org/hazelgreen/about/calendar/8042230/ser
 vice-club-info-meeting
DTSTART:20250821T163500Z
DTEND:20250821T171500Z
END:VEVENT
END:VCALENDAR
