BEGIN:VCALENDAR
VERSION:2.0
PRODID:SchoolNow
CALSCALE:GREGORIAN
BEGIN:VEVENT
UID:b2e0175c-b722-11f0-8d7a-0a58a9feac02
DTSTAMP:20251121T133509Z
SUMMARY:Susan B. Anthony's Birthday
URL;VALUE=URI:https://www.dist126.org/early-childhood-center/calendar/87673
 69/susan-b-anthonys-birthday
DTSTART;VALUE=DATE:20270215
DTEND;VALUE=DATE:20270216
END:VEVENT
END:VCALENDAR
