BEGIN:VCALENDAR
VERSION:2.0
PRODID:SchoolNow
CALSCALE:GREGORIAN
BEGIN:VEVENT
UID:76a3518c-3aea-11f0-b8be-0a58a9feac02
DTSTAMP:20251121T133509Z
SUMMARY:Iraq and Afghanistan Veterans Remembrance Day
URL;VALUE=URI:https://www.dist126.org/early-childhood-center/calendar/82063
 25/iraq-and-afghanistan-veterans-remembrance-day
DTSTART;VALUE=DATE:20261007
DTEND;VALUE=DATE:20261008
END:VEVENT
END:VCALENDAR
