BEGIN:VCALENDAR
VERSION:2.0
PRODID:SchoolNow
CALSCALE:GREGORIAN
BEGIN:VEVENT
UID:76a34f34-3aea-11f0-a138-0a58a9feac02
DTSTAMP:20251121T133509Z
SUMMARY:Muhammad Ali's Birthday (Commemorative Day)
URL;VALUE=URI:https://www.dist126.org/early-childhood-center/calendar/82063
 23/muhammad-alis-birthday-commemorative-day
DTSTART;VALUE=DATE:20270117
DTEND;VALUE=DATE:20270118
END:VEVENT
END:VCALENDAR
