BEGIN:VCALENDAR
VERSION:2.0
PRODID:SchoolNow
CALSCALE:GREGORIAN
BEGIN:VEVENT
UID:76a32e5a-3aea-11f0-a98b-0a58a9feac02
DTSTAMP:20251121T133509Z
SUMMARY:Pearl Harbor Veterans Day
URL;VALUE=URI:https://www.dist126.org/early-childhood-center/calendar/82063
 21/pearl-harbor-veterans-day
DTSTART;VALUE=DATE:20261207
DTEND;VALUE=DATE:20261208
END:VEVENT
END:VCALENDAR
